{
 "currentVersion": 10.91,
 "serviceDescription": "Original file location: M:\\Published_Maps\\Retail_Map\\Base_Map.mxd\n\nData source: Web_Mapping_Data.gdb",
 "mapName": "Layers",
 "description": "",
 "copyrightText": "",
 "supportsDynamicLayers": true,
 "layers": [
  {
   "id": 0,
   "name": "Subdivision_Anno",
   "parentLayerId": -1,
   "defaultVisibility": true,
   "subLayerIds": [
    86
   ],
   "minScale": 4514,
   "maxScale": 0,
   "type": "Annotation Layer",
   "geometryType": "esriGeometryPolygon"
  },
  {
   "id": 86,
   "name": "Default",
   "parentLayerId": 0,
   "defaultVisibility": true,
   "subLayerIds": null,
   "minScale": 0,
   "maxScale": 0
  },
  {
   "id": 87,
   "name": "GeoDocsGrid",
   "parentLayerId": -1,
   "defaultVisibility": true,
   "subLayerIds": null,
   "minScale": 36112,
   "maxScale": 0,
   "type": "Feature Layer",
   "geometryType": "esriGeometryPolygon"
  },
  {
   "id": 88,
   "name": "Parcel_pntsAnno",
   "parentLayerId": -1,
   "defaultVisibility": true,
   "subLayerIds": [
    89
   ],
   "minScale": 0,
   "maxScale": 0,
   "type": "Annotation Layer",
   "geometryType": "esriGeometryPolygon"
  },
  {
   "id": 89,
   "name": "Default",
   "parentLayerId": 88,
   "defaultVisibility": true,
   "subLayerIds": null,
   "minScale": 3000,
   "maxScale": 0
  },
  {
   "id": 90,
   "name": "WebSiteData.SDE.Parcel_pnts",
   "parentLayerId": -1,
   "defaultVisibility": true,
   "subLayerIds": null,
   "minScale": 3000,
   "maxScale": 0,
   "type": "Feature Layer",
   "geometryType": "esriGeometryPoint"
  },
  {
   "id": 91,
   "name": "1128",
   "parentLayerId": -1,
   "defaultVisibility": true,
   "subLayerIds": [
    92,
    93,
    94
   ],
   "minScale": 1129,
   "maxScale": 0,
   "type": "Group Layer"
  },
  {
   "id": 92,
   "name": "Subdivision_Areas",
   "parentLayerId": 91,
   "defaultVisibility": true,
   "subLayerIds": null,
   "minScale": 0,
   "maxScale": 0,
   "type": "Feature Layer",
   "geometryType": "esriGeometryPolygon"
  },
  {
   "id": 93,
   "name": "Streets",
   "parentLayerId": 91,
   "defaultVisibility": true,
   "subLayerIds": null,
   "minScale": 0,
   "maxScale": 0,
   "type": "Feature Layer",
   "geometryType": "esriGeometryPolyline"
  },
  {
   "id": 94,
   "name": "sde.SDE.Parcels2",
   "parentLayerId": 91,
   "defaultVisibility": true,
   "subLayerIds": null,
   "minScale": 0,
   "maxScale": 0,
   "type": "Feature Layer",
   "geometryType": "esriGeometryPolygon"
  },
  {
   "id": 95,
   "name": "2257",
   "parentLayerId": -1,
   "defaultVisibility": true,
   "subLayerIds": [
    96,
    97,
    98
   ],
   "minScale": 2257,
   "maxScale": 1129,
   "type": "Group Layer"
  },
  {
   "id": 96,
   "name": "Subdivision_Areas",
   "parentLayerId": 95,
   "defaultVisibility": true,
   "subLayerIds": null,
   "minScale": 0,
   "maxScale": 0,
   "type": "Feature Layer",
   "geometryType": "esriGeometryPolygon"
  },
  {
   "id": 97,
   "name": "Streets",
   "parentLayerId": 95,
   "defaultVisibility": true,
   "subLayerIds": null,
   "minScale": 0,
   "maxScale": 0,
   "type": "Feature Layer",
   "geometryType": "esriGeometryPolyline"
  },
  {
   "id": 98,
   "name": "Parcels2",
   "parentLayerId": 95,
   "defaultVisibility": true,
   "subLayerIds": null,
   "minScale": 0,
   "maxScale": 0,
   "type": "Feature Layer",
   "geometryType": "esriGeometryPolygon"
  },
  {
   "id": 99,
   "name": "4514",
   "parentLayerId": -1,
   "defaultVisibility": true,
   "subLayerIds": [
    100,
    101,
    102
   ],
   "minScale": 4514,
   "maxScale": 2258,
   "type": "Group Layer"
  },
  {
   "id": 100,
   "name": "Subdivision_Areas",
   "parentLayerId": 99,
   "defaultVisibility": true,
   "subLayerIds": null,
   "minScale": 0,
   "maxScale": 0,
   "type": "Feature Layer",
   "geometryType": "esriGeometryPolygon"
  },
  {
   "id": 101,
   "name": "Streets",
   "parentLayerId": 99,
   "defaultVisibility": true,
   "subLayerIds": null,
   "minScale": 0,
   "maxScale": 0,
   "type": "Feature Layer",
   "geometryType": "esriGeometryPolyline"
  },
  {
   "id": 102,
   "name": "Parcels2",
   "parentLayerId": 99,
   "defaultVisibility": true,
   "subLayerIds": null,
   "minScale": 0,
   "maxScale": 0,
   "type": "Feature Layer",
   "geometryType": "esriGeometryPolygon"
  },
  {
   "id": 103,
   "name": "9028",
   "parentLayerId": -1,
   "defaultVisibility": true,
   "subLayerIds": [
    104,
    105
   ],
   "minScale": 9028,
   "maxScale": 4515,
   "type": "Group Layer"
  },
  {
   "id": 104,
   "name": "Streets",
   "parentLayerId": 103,
   "defaultVisibility": true,
   "subLayerIds": null,
   "minScale": 0,
   "maxScale": 0,
   "type": "Feature Layer",
   "geometryType": "esriGeometryPolyline"
  },
  {
   "id": 105,
   "name": "sde.SDE.Parcels2",
   "parentLayerId": 103,
   "defaultVisibility": true,
   "subLayerIds": null,
   "minScale": 0,
   "maxScale": 0,
   "type": "Feature Layer",
   "geometryType": "esriGeometryPolygon"
  },
  {
   "id": 106,
   "name": "18056",
   "parentLayerId": -1,
   "defaultVisibility": true,
   "subLayerIds": [
    107
   ],
   "minScale": 18056,
   "maxScale": 9029,
   "type": "Group Layer"
  },
  {
   "id": 107,
   "name": "Streets",
   "parentLayerId": 106,
   "defaultVisibility": true,
   "subLayerIds": null,
   "minScale": 0,
   "maxScale": 0,
   "type": "Feature Layer",
   "geometryType": "esriGeometryPolyline"
  },
  {
   "id": 108,
   "name": "36112",
   "parentLayerId": -1,
   "defaultVisibility": true,
   "subLayerIds": [
    109
   ],
   "minScale": 36112,
   "maxScale": 18057,
   "type": "Group Layer"
  },
  {
   "id": 109,
   "name": "Streets",
   "parentLayerId": 108,
   "defaultVisibility": true,
   "subLayerIds": null,
   "minScale": 0,
   "maxScale": 0,
   "type": "Feature Layer",
   "geometryType": "esriGeometryPolyline"
  },
  {
   "id": 110,
   "name": "72224",
   "parentLayerId": -1,
   "defaultVisibility": true,
   "subLayerIds": [
    111
   ],
   "minScale": 72224,
   "maxScale": 36113,
   "type": "Group Layer"
  },
  {
   "id": 111,
   "name": "Streets",
   "parentLayerId": 110,
   "defaultVisibility": true,
   "subLayerIds": null,
   "minScale": 0,
   "maxScale": 0,
   "type": "Feature Layer",
   "geometryType": "esriGeometryPolyline"
  },
  {
   "id": 112,
   "name": "144,448",
   "parentLayerId": -1,
   "defaultVisibility": true,
   "subLayerIds": [
    113
   ],
   "minScale": 0,
   "maxScale": 72225,
   "type": "Group Layer"
  },
  {
   "id": 113,
   "name": "Streets",
   "parentLayerId": 112,
   "defaultVisibility": true,
   "subLayerIds": null,
   "minScale": 0,
   "maxScale": 0,
   "type": "Feature Layer",
   "geometryType": "esriGeometryPolyline"
  },
  {
   "id": 114,
   "name": "City Limit Fill Color",
   "parentLayerId": -1,
   "defaultVisibility": true,
   "subLayerIds": null,
   "minScale": 0,
   "maxScale": 0,
   "type": "Feature Layer",
   "geometryType": "esriGeometryPolygon"
  },
  {
   "id": 115,
   "name": "Other_Municipality_Areas",
   "parentLayerId": -1,
   "defaultVisibility": true,
   "subLayerIds": null,
   "minScale": 0,
   "maxScale": 0,
   "type": "Feature Layer",
   "geometryType": "esriGeometryPolygon"
  },
  {
   "id": 116,
   "name": "BackgroundArea",
   "parentLayerId": -1,
   "defaultVisibility": true,
   "subLayerIds": null,
   "minScale": 0,
   "maxScale": 0,
   "type": "Feature Layer",
   "geometryType": "esriGeometryPolygon"
  }
 ],
 "tables": [],
 "spatialReference": {
  "wkid": 102100,
  "latestWkid": 3857
 },
 "singleFusedMapCache": true,
 "tileInfo": {
  "rows": 256,
  "cols": 256,
  "dpi": 96,
  "format": "PNG",
  "compressionQuality": 0,
  "origin": {
   "x": -20037700,
   "y": 30241100
  },
  "spatialReference": {
   "wkid": 102100,
   "latestWkid": 3857
  },
  "lods": [
   {
    "level": 0,
    "resolution": 38.218609770552874,
    "scale": 144448
   },
   {
    "level": 1,
    "resolution": 19.109304885276437,
    "scale": 72224
   },
   {
    "level": 2,
    "resolution": 9.554652442638218,
    "scale": 36112
   },
   {
    "level": 3,
    "resolution": 4.777326221319109,
    "scale": 18056
   },
   {
    "level": 4,
    "resolution": 2.3886631106595546,
    "scale": 9028
   },
   {
    "level": 5,
    "resolution": 1.1943315553297773,
    "scale": 4514
   },
   {
    "level": 6,
    "resolution": 0.5971657776648887,
    "scale": 2257
   },
   {
    "level": 7,
    "resolution": 0.2984505969011938,
    "scale": 1128
   },
   {
    "level": 8,
    "resolution": 0.1492252984505969,
    "scale": 564
   }
  ]
 },
 "initialExtent": {
  "xmin": -1.0123789848945979E7,
  "ymin": 4681485.963406253,
  "xmax": -1.0076790951221254E7,
  "ymax": 4706400.404406079,
  "spatialReference": {
   "cs": "pcs",
   "wkid": 102100
  }
 },
 "fullExtent": {
  "xmin": -1.0111292955769313E7,
  "ymin": 4678092.778250485,
  "xmax": -1.0089287844397917E7,
  "ymax": 4704503.899328338,
  "spatialReference": {
   "cs": "pcs",
   "wkid": 102100
  }
 },
 "minScale": 500000,
 "maxScale": 564,
 "maxLOD": 8,
 "units": "esriMeters",
 "supportedImageFormatTypes": "PNG32,PNG24,PNG,JPG,DIB,TIFF,EMF,PS,PDF,GIF,SVG,SVGZ,BMP",
 "documentInfo": {
  "Title": "Background",
  "Author": "KKINGREY",
  "Comments": "Original file location: M:\\Published_Maps\\Retail_Map\\Base_Map.mxd\n\nData source: Web_Mapping_Data.gdb",
  "Subject": "",
  "Category": "",
  "AntialiasingMode": "Best",
  "TextAntialiasingMode": "Force",
  "Keywords": ""
 },
 "capabilities": "Map,Query,Data",
 "supportedQueryFormats": "JSON, geoJSON",
 "hasVersionedData": true,
 "exportTilesAllowed": false,
 "referenceScale": 2400,
 "datumTransformations": [
  {
   "geoTransforms": [
    {
     "wkid": 108001,
     "latestWkid": 1241,
     "transformForward": true,
     "name": "NAD_1927_To_NAD_1983_NADCON"
    }
   ]
  },
  {
   "geoTransforms": [
    {
     "wkid": 108001,
     "latestWkid": 1241,
     "transformForward": false,
     "name": "NAD_1927_To_NAD_1983_NADCON"
    }
   ]
  }
 ],
 "supportsDatumTransformation": true,
 "maxRecordCount": 1000,
 "maxImageHeight": 4096,
 "maxImageWidth": 4096,
 "supportedExtensions": "",
 "resampling": true
}
