{
 "currentVersion": 10.91,
 "cimVersion": "2.9.0",
 "serviceDescription": "",
 "mapName": "Aerials24",
 "description": "",
 "copyrightText": "",
 "supportsDynamicLayers": true,
 "layers": [
  {
   "id": 0,
   "name": "77695E103620N.sid",
   "parentLayerId": -1,
   "defaultVisibility": true,
   "subLayerIds": null,
   "minScale": 0,
   "maxScale": 0,
   "type": "Raster Layer",
   "supportsDynamicLegends": true
  },
  {
   "id": 1,
   "name": "77431E109164N.sid",
   "parentLayerId": -1,
   "defaultVisibility": true,
   "subLayerIds": null,
   "minScale": 0,
   "maxScale": 0,
   "type": "Raster Layer",
   "supportsDynamicLegends": true
  },
  {
   "id": 2,
   "name": "77431E105996N.sid",
   "parentLayerId": -1,
   "defaultVisibility": true,
   "subLayerIds": null,
   "minScale": 0,
   "maxScale": 0,
   "type": "Raster Layer",
   "supportsDynamicLegends": true
  },
  {
   "id": 3,
   "name": "72943E999240N.sid",
   "parentLayerId": -1,
   "defaultVisibility": true,
   "subLayerIds": null,
   "minScale": 0,
   "maxScale": 0,
   "type": "Raster Layer",
   "supportsDynamicLegends": true
  },
  {
   "id": 4,
   "name": "72943E109164N.sid",
   "parentLayerId": -1,
   "defaultVisibility": true,
   "subLayerIds": null,
   "minScale": 0,
   "maxScale": 0,
   "type": "Raster Layer",
   "supportsDynamicLegends": true
  },
  {
   "id": 5,
   "name": "72943E105204N.sid",
   "parentLayerId": -1,
   "defaultVisibility": true,
   "subLayerIds": null,
   "minScale": 0,
   "maxScale": 0,
   "type": "Raster Layer",
   "supportsDynamicLegends": true
  },
  {
   "id": 6,
   "name": "68719E107580N.sid",
   "parentLayerId": -1,
   "defaultVisibility": true,
   "subLayerIds": null,
   "minScale": 0,
   "maxScale": 0,
   "type": "Raster Layer",
   "supportsDynamicLegends": true
  },
  {
   "id": 7,
   "name": "68719E103356N.sid",
   "parentLayerId": -1,
   "defaultVisibility": true,
   "subLayerIds": null,
   "minScale": 0,
   "maxScale": 0,
   "type": "Raster Layer",
   "supportsDynamicLegends": true
  },
  {
   "id": 8,
   "name": "68719E100452N.sid",
   "parentLayerId": -1,
   "defaultVisibility": true,
   "subLayerIds": null,
   "minScale": 0,
   "maxScale": 0,
   "type": "Raster Layer",
   "supportsDynamicLegends": true
  }
 ],
 "tables": [],
 "spatialReference": {
  "wkid": 102696,
  "latestWkid": 102696,
  "vcsWkid": 115702,
  "latestVcsWkid": 115702,
  "xyTolerance": 0.003280833333333333,
  "zTolerance": 0.001,
  "mTolerance": 0.001,
  "falseX": -17627100,
  "falseY": -45827300,
  "xyUnits": 3048.0060960121928,
  "falseZ": -100000,
  "zUnits": 10000,
  "falseM": -100000,
  "mUnits": 10000
 },
 "singleFusedMapCache": true,
 "tileInfo": {
  "rows": 256,
  "cols": 256,
  "dpi": 96,
  "format": "Mixed",
  "compressionQuality": 75,
  "origin": {
   "x": -3.1992383296971418E7,
   "y": 1.9798230221963212E7
  },
  "spatialReference": {
   "wkid": 102696,
   "latestWkid": 102696,
   "vcsWkid": 115702,
   "latestVcsWkid": 115702,
   "xyTolerance": 0.003280833333333333,
   "zTolerance": 0.001,
   "mTolerance": 0.001,
   "falseX": -17627100,
   "falseY": -45827300,
   "xyUnits": 3048.0060960121928,
   "falseZ": -100000,
   "zUnits": 10000,
   "falseM": -100000,
   "mUnits": 10000
  },
  "lods": [
   {
    "level": 0,
    "resolution": 256348.37211175586,
    "scale": 2.9531391530057335E8
   },
   {
    "level": 1,
    "resolution": 128174.18605587793,
    "scale": 1.4765695765028667E8
   },
   {
    "level": 2,
    "resolution": 64087.093027938965,
    "scale": 7.382847882514334E7
   },
   {
    "level": 3,
    "resolution": 32043.546513969482,
    "scale": 3.691423941257167E7
   },
   {
    "level": 4,
    "resolution": 16021.773256984741,
    "scale": 1.8457119706285834E7
   },
   {
    "level": 5,
    "resolution": 8010.886628492371,
    "scale": 9228559.853142917
   },
   {
    "level": 6,
    "resolution": 4005.4433142461853,
    "scale": 4614279.926571459
   },
   {
    "level": 7,
    "resolution": 2002.7216571230927,
    "scale": 2307139.9632857293
   },
   {
    "level": 8,
    "resolution": 1001.3608285615463,
    "scale": 1153569.9816428646
   },
   {
    "level": 9,
    "resolution": 500.68041428077316,
    "scale": 576784.9908214323
   },
   {
    "level": 10,
    "resolution": 250.34020714038658,
    "scale": 288392.49541071616
   },
   {
    "level": 11,
    "resolution": 125.17010357019329,
    "scale": 144196.24770535808
   },
   {
    "level": 12,
    "resolution": 62.585051785096645,
    "scale": 72098.12385267904
   },
   {
    "level": 13,
    "resolution": 31.292525892548323,
    "scale": 36049.06192633952
   },
   {
    "level": 14,
    "resolution": 15.646262946274161,
    "scale": 18024.53096316976
   },
   {
    "level": 15,
    "resolution": 7.823131473137081,
    "scale": 9012.26548158488
   },
   {
    "level": 16,
    "resolution": 3.9115657365685403,
    "scale": 4506.13274079244
   },
   {
    "level": 17,
    "resolution": 1.9557828682842702,
    "scale": 2253.06637039622
   },
   {
    "level": 18,
    "resolution": 0.9778914341421351,
    "scale": 1126.53318519811
   },
   {
    "level": 19,
    "resolution": 0.48894571707106754,
    "scale": 563.266592599055
   },
   {
    "level": 20,
    "resolution": 0.24447285853553377,
    "scale": 281.6332962995275
   },
   {
    "level": 21,
    "resolution": 0.12223642926776689,
    "scale": 140.81664814976375
   },
   {
    "level": 22,
    "resolution": 0.06111821463388344,
    "scale": 70.40832407488188
   },
   {
    "level": 23,
    "resolution": 0.03055910731694172,
    "scale": 35.20416203744094
   }
  ]
 },
 "storageInfo": {
  "storageFormat": "esriMapCacheStorageModeCompactV2",
  "packetSize": 128
 },
 "initialExtent": {
  "xmin": 704071.0340572554,
  "ymin": 1043109.0693003784,
  "xmax": 791115.3048905889,
  "ymax": 1111598.652633712,
  "spatialReference": {
   "wkid": 102696,
   "latestWkid": 102696,
   "vcsWkid": 115702,
   "latestVcsWkid": 115702,
   "xyTolerance": 0.003280833333333333,
   "zTolerance": 0.001,
   "mTolerance": 0.001,
   "falseX": -17627100,
   "falseY": -45827300,
   "xyUnits": 3048.0060960121928,
   "falseZ": -100000,
   "zUnits": 10000,
   "falseM": -100000,
   "mUnits": 10000
  }
 },
 "fullExtent": {
  "xmin": 704071.0340572555,
  "ymin": 1043109.0693003786,
  "xmax": 791115.3048905887,
  "ymax": 1111598.652633712,
  "spatialReference": {
   "wkid": 102696,
   "latestWkid": 102696,
   "vcsWkid": 115702,
   "latestVcsWkid": 115702,
   "xyTolerance": 0.003280833333333333,
   "zTolerance": 0.001,
   "mTolerance": 0.001,
   "falseX": -17627100,
   "falseY": -45827300,
   "xyUnits": 3048.0060960121928,
   "falseZ": -100000,
   "zUnits": 10000,
   "falseM": -100000,
   "mUnits": 10000
  }
 },
 "datesInUnknownTimezone": false,
 "minScale": 144196.24770535808,
 "maxScale": 563.266592599055,
 "minLOD": 11,
 "maxLOD": 19,
 "units": "esriFeet",
 "supportedImageFormatTypes": "PNG32,PNG24,PNG,JPG,DIB,TIFF,EMF,PS,PDF,GIF,SVG,SVGZ,BMP",
 "documentInfo": {
  "Title": "Map",
  "Author": "",
  "Comments": "",
  "Subject": "",
  "Category": "",
  "AntialiasingMode": "None",
  "TextAntialiasingMode": "Force",
  "Version": "2.9.0",
  "Keywords": ""
 },
 "supportsQueryDomains": true,
 "capabilities": "Map,Query,Data",
 "supportedQueryFormats": "JSON, geoJSON, PBF",
 "exportTilesAllowed": false,
 "referenceScale": 0.0,
 "supportsDatumTransformation": true,
 "heightModelInfo": {
  "heightModel": "ellipsoidal",
  "vertCRS": "NAD_1983",
  "heightUnit": "meter"
 },
 "supportsVCSProjection": true,
 "archivingInfo": {
  "supportsHistoricMoment": false
 },
 "supportsClipping": true,
 "supportsSpatialFilter": true,
 "supportsTimeRelation": true,
 "supportsQueryDataElements": true,
 "maxRecordCount": 2000,
 "maxImageHeight": 4096,
 "maxImageWidth": 4096,
 "supportedExtensions": ""
}
